BEGIN:VCALENDAR
VERSION:2.0
PRODID:-//Girdwood Fine Arts Camp - ECPv6.15.3//NONSGML v1.0//EN
CALSCALE:GREGORIAN
METHOD:PUBLISH
X-WR-CALNAME:Girdwood Fine Arts Camp
X-ORIGINAL-URL:https://www.girdwoodfineartscamp.com
X-WR-CALDESC:Events for Girdwood Fine Arts Camp
REFRESH-INTERVAL;VALUE=DURATION:PT1H
X-Robots-Tag:noindex
X-PUBLISHED-TTL:PT1H
BEGIN:VTIMEZONE
TZID:UTC
BEGIN:STANDARD
TZOFFSETFROM:+0000
TZOFFSETTO:+0000
TZNAME:UTC
DTSTART:20240101T000000
END:STANDARD
END:VTIMEZONE
BEGIN:VEVENT
DTSTART;TZID=UTC:20240722T130000
DTEND;TZID=UTC:20240802T170000
DTSTAMP:20260423T151004
CREATED:20150421T210051Z
LAST-MODIFIED:20240711T232324Z
UID:81-1721653200-1722618000@www.girdwoodfineartscamp.com
SUMMARY:Intermediate Art Camp: Two Weeks Session
DESCRIPTION:This registration is for the Intermediate Art Camp (Ages 9-13) for the Two-Week Camp held Monday – Friday 1pm-5pm\, student show of works August 2nd 6-8PM. \nChildren will work with guest artists and volunteers to explore different techniques and styles\, while fully immersing themselves in creativity. This camp provides a truly fun and dynamic experience that will spark creativity\, engagement\, exploration and individual expression. The program welcomes each young artist as a unique individual bursting with potential. \nPlease note that the camp is subject to COVID municipal regulations. \nInternet registration: www.fourvalleys.org
URL:https://www.girdwoodfineartscamp.com/camp/intermediate-two-week-session/
LOCATION:Challenge Alaska Building\, 426 Crystal Mountain Road\, Girdwood\, AK\, 99587\, United States
CATEGORIES:2 Week,Afternoon,Intermediate (ages 9-14)
ATTACH;FMTTYPE=image/jpeg:https://www.girdwoodfineartscamp.com/wp-content/uploads/2021/04/IMG_1157-1.jpg
END:VEVENT
BEGIN:VEVENT
DTSTART;TZID=UTC:20240722T130000
DTEND;TZID=UTC:20240802T160000
DTSTAMP:20260423T151004
CREATED:20150421T214415Z
LAST-MODIFIED:20240711T232429Z
UID:90-1721653200-1722614400@www.girdwoodfineartscamp.com
SUMMARY:Primary Art Camp: Two-Week Afternoon Session
DESCRIPTION:This registration is for the Afternoon session of the Primary Art Camp (Ages 5-8) for the full two-week camp held Monday – Friday\, 1pm-4pm. NOTE: this session is 3 hours long! Show of student works is August 2nd 6-8pm. \nChildren will work with guest artists to explore different techniques and styles\, while fully immersing themselves in creativity. This camp provides a truly fun and dynamic experience that will spark creativity\, engagement\, exploration and individual expression. The program welcomes each young artist as a unique individual bursting with potential. This afternoon primary session will differ from the morning session by having an added hour of creative movement practice each day. \nCoed\, ages 5-8\nInternet registration: www.fourvalleys.org
URL:https://www.girdwoodfineartscamp.com/camp/primary-full-two-weeks-afternoon/
LOCATION:Challenge Alaska Building\, 426 Crystal Mountain Road\, Girdwood\, AK\, 99587\, United States
CATEGORIES:2 Week,Afternoon,Primary (ages 5-8)
ATTACH;FMTTYPE=image/jpeg:https://www.girdwoodfineartscamp.com/wp-content/uploads/2021/04/IMG_0879.jpg
ORGANIZER;CN="Girdwood Arts Camp":MAILTO:maritime13@gmail.com
END:VEVENT
BEGIN:VEVENT
DTSTART;TZID=UTC:20240722T100000
DTEND;TZID=UTC:20240802T120000
DTSTAMP:20260423T151004
CREATED:20150421T214556Z
LAST-MODIFIED:20240711T232716Z
UID:91-1721642400-1722600000@www.girdwoodfineartscamp.com
SUMMARY:Primary Art Camp: Two-Week Morning Session
DESCRIPTION:This registration is for the Morning session of the Primary Art Camp (Ages 5-8) for the full two-week camp held Monday – Friday\, 10am-Noon. Show of student works is August 2nd 6-8pm. \nChildren will work with guest artists and volunteers to explore different techniques and styles\, while fully immersing themselves in creativity. This camp provides a truly fun and dynamic experience that will spark creativity\, engagement\, exploration and individual expression. The program welcomes each young artist as a unique individual bursting with potential. \nCoed\, ages 5-8\nInternet registration: www.fourvalleys.org
URL:https://www.girdwoodfineartscamp.com/camp/primary-full-two-weeks-morning/
LOCATION:Challenge Alaska Building\, 426 Crystal Mountain Road\, Girdwood\, AK\, 99587\, United States
CATEGORIES:2 Week,Morning,Primary (ages 5-8)
ATTACH;FMTTYPE=image/jpeg:https://www.girdwoodfineartscamp.com/wp-content/uploads/2021/04/IMG_1262-1.jpg
ORGANIZER;CN="Girdwood Arts Camp":MAILTO:maritime13@gmail.com
END:VEVENT
END:VCALENDAR